Package: DAPAR Version: 1.39.0 Command: /home/biocbuild/R/R/bin/R CMD INSTALL DAPAR StartedAt: 2025-01-29 20:14:33 -0000 (Wed, 29 Jan 2025) EndedAt: 2025-01-29 20:15:30 -0000 (Wed, 29 Jan 2025) EllapsedTime: 57.4 seconds RetCode: 0 Status: OK