Package: DAPAR Version: 1.39.0 Command: /Library/Frameworks/R.framework/Resources/bin/R CMD check --install=check:DAPAR.install-out.txt --library=/Library/Frameworks/R.framework/Resources/library --no-vignettes --timings DAPAR_1.39.0.tar.gz StartedAt: 2025-02-17 18:52:02 -0500 (Mon, 17 Feb 2025) EndedAt: 2025-02-17 18:55:23 -0500 (Mon, 17 Feb 2025) EllapsedTime: 201.3 seconds RetCode: 0 Status: OK CheckDir: DAPAR.Rcheck Warnings: 0