Package: DAPAR Version: 1.39.0 Command: rm -rf DAPAR.buildbin-libdir && mkdir DAPAR.buildbin-libdir && /Users/biocbuild/BBS/utils/build-universal.sh DAPAR_1.39.0.tar.gz /Library/Frameworks/R.framework/Resources/bin/R DAPAR.buildbin-libdir StartedAt: 2025-02-17 22:14:33 -0500 (Mon, 17 Feb 2025) EndedAt: 2025-02-17 22:14:52 -0500 (Mon, 17 Feb 2025) EllapsedTime: 18.3 seconds RetCode: 0 Status: OK PackageFile: DAPAR_1.39.0.tgz PackageFileSize: 720.9 KiB