Package: DAMEfinder Version: 1.19.0 Command: /Library/Frameworks/R.framework/Resources/bin/R CMD check --install=check:DAMEfinder.install-out.txt --library=/Library/Frameworks/R.framework/Resources/library --no-vignettes --timings DAMEfinder_1.19.0.tar.gz StartedAt: 2025-02-20 19:51:01 -0500 (Thu, 20 Feb 2025) EndedAt: 2025-02-20 19:56:40 -0500 (Thu, 20 Feb 2025) EllapsedTime: 339.0 seconds RetCode: 0 Status: OK CheckDir: DAMEfinder.Rcheck Warnings: 0