Package: DAMEfinder Version: 1.19.0 Command: /Library/Frameworks/R.framework/Resources/bin/R CMD check --install=check:DAMEfinder.install-out.txt --library=/Library/Frameworks/R.framework/Resources/library --no-vignettes --timings DAMEfinder_1.19.0.tar.gz StartedAt: 2025-02-21 19:28:08 -0500 (Fri, 21 Feb 2025) EndedAt: 2025-02-21 19:30:03 -0500 (Fri, 21 Feb 2025) EllapsedTime: 114.3 seconds RetCode: 0 Status: OK CheckDir: DAMEfinder.Rcheck Warnings: 0