Package: DAMEfinder Version: 1.19.0 Command: /Library/Frameworks/R.framework/Resources/bin/R CMD build --keep-empty-dirs --no-resave-data DAMEfinder StartedAt: 2025-02-21 16:03:51 -0500 (Fri, 21 Feb 2025) EndedAt: 2025-02-21 16:04:36 -0500 (Fri, 21 Feb 2025) EllapsedTime: 44.5 seconds RetCode: 0 Status: OK PackageFile: DAMEfinder_1.19.0.tar.gz PackageFileSize: 4.961 MiB