Package: CytoPipeline Version: 1.7.0 Command: /home/biocbuild/bbs-3.21-bioc/R/bin/R CMD INSTALL CytoPipeline StartedAt: 2025-02-20 15:45:17 -0500 (Thu, 20 Feb 2025) EndedAt: 2025-02-20 15:45:19 -0500 (Thu, 20 Feb 2025) EllapsedTime: 1.2 seconds RetCode: 1 Status: ERROR