Package: CytoPipeline Version: 1.7.0 Command: /Library/Frameworks/R.framework/Resources/bin/R CMD check --install=check:CytoPipeline.install-out.txt --library=/Library/Frameworks/R.framework/Resources/library --no-vignettes --timings CytoPipeline_1.7.0.tar.gz StartedAt: 2025-02-21 19:50:04 -0500 (Fri, 21 Feb 2025) EndedAt: 2025-02-21 19:54:44 -0500 (Fri, 21 Feb 2025) EllapsedTime: 280.6 seconds RetCode: 0 Status: OK CheckDir: CytoPipeline.Rcheck Warnings: 0