Package: CytoPipeline Version: 1.7.0 Command: rm -rf CytoPipeline.buildbin-libdir && mkdir CytoPipeline.buildbin-libdir && /Users/biocbuild/BBS/utils/build-universal.sh CytoPipeline_1.7.0.tar.gz /Library/Frameworks/R.framework/Resources/bin/R CytoPipeline.buildbin-libdir StartedAt: 2025-02-21 00:26:40 -0500 (Fri, 21 Feb 2025) EndedAt: 2025-02-21 00:27:03 -0500 (Fri, 21 Feb 2025) EllapsedTime: 23.1 seconds RetCode: 0 Status: OK PackageFile: CytoPipeline_1.7.0.tgz PackageFileSize: 3.513 MiB