Package: CytoML Version: 2.19.1 Command: /home/biocbuild/bbs-3.21-bioc/R/bin/R CMD INSTALL CytoML StartedAt: 2025-02-19 15:32:49 -0500 (Wed, 19 Feb 2025) EndedAt: 2025-02-19 15:33:47 -0500 (Wed, 19 Feb 2025) EllapsedTime: 57.5 seconds RetCode: 0 Status: OK