Package: CytoML Version: 2.19.1 Command: /home/biocbuild/bbs-3.21-bioc/R/bin/R CMD check --install=check:CytoML.install-out.txt --library=/home/biocbuild/bbs-3.21-bioc/R/site-library --timings CytoML_2.19.1.tar.gz StartedAt: 2025-02-18 21:13:50 -0500 (Tue, 18 Feb 2025) EndedAt: 2025-02-18 21:16:52 -0500 (Tue, 18 Feb 2025) EllapsedTime: 182.2 seconds RetCode: 0 Status: WARNINGS CheckDir: CytoML.Rcheck Warnings: 5