Package: CytoMDS Version: 1.3.5 Command: rm -rf CytoMDS.buildbin-libdir && mkdir CytoMDS.buildbin-libdir && E:\biocbuild\bbs-3.21-bioc\R\bin\R.exe CMD INSTALL --build --library=CytoMDS.buildbin-libdir CytoMDS_1.3.5.tar.gz StartedAt: 2025-02-21 07:54:22 -0500 (Fri, 21 Feb 2025) EndedAt: 2025-02-21 07:55:17 -0500 (Fri, 21 Feb 2025) EllapsedTime: 55.0 seconds RetCode: 0 Status: OK PackageFile: CytoMDS_1.3.5.zip PackageFileSize: 1.487 MiB