Package: CytoMDS Version: 1.3.5 Command: /home/biocbuild/bbs-3.21-bioc/R/bin/R CMD INSTALL CytoMDS StartedAt: 2025-02-19 15:33:15 -0500 (Wed, 19 Feb 2025) EndedAt: 2025-02-19 15:33:29 -0500 (Wed, 19 Feb 2025) EllapsedTime: 13.7 seconds RetCode: 0 Status: OK