Package: CytoMDS Version: 1.3.5 Command: /Library/Frameworks/R.framework/Resources/bin/R CMD check --install=check:CytoMDS.install-out.txt --library=/Library/Frameworks/R.framework/Resources/library --no-vignettes --timings CytoMDS_1.3.5.tar.gz StartedAt: 2025-02-19 18:51:45 -0500 (Wed, 19 Feb 2025) EndedAt: 2025-02-19 18:54:09 -0500 (Wed, 19 Feb 2025) EllapsedTime: 143.8 seconds RetCode: 0 Status: OK CheckDir: CytoMDS.Rcheck Warnings: 0