Package: CytoMDS Version: 1.3.5 Command: /Library/Frameworks/R.framework/Resources/bin/R CMD build --keep-empty-dirs --no-resave-data CytoMDS StartedAt: 2025-02-19 16:03:48 -0500 (Wed, 19 Feb 2025) EndedAt: 2025-02-19 16:05:05 -0500 (Wed, 19 Feb 2025) EllapsedTime: 76.9 seconds RetCode: 0 Status: OK PackageFile: CytoMDS_1.3.5.tar.gz PackageFileSize: 5.042 MiB