Package: CytoGLMM Version: 1.15.0 Command: /home/biocbuild/bbs-3.21-bioc/R/bin/R CMD INSTALL CytoGLMM StartedAt: 2025-02-21 15:52:56 -0500 (Fri, 21 Feb 2025) EndedAt: 2025-02-21 15:53:12 -0500 (Fri, 21 Feb 2025) EllapsedTime: 15.6 seconds RetCode: 0 Status: OK