Package: CytoGLMM Version: 1.15.0 Command: rm -rf CytoGLMM.buildbin-libdir && mkdir CytoGLMM.buildbin-libdir && /Users/biocbuild/BBS/utils/build-universal.sh CytoGLMM_1.15.0.tar.gz /Library/Frameworks/R.framework/Resources/bin/R CytoGLMM.buildbin-libdir StartedAt: 2025-02-22 00:27:31 -0500 (Sat, 22 Feb 2025) EndedAt: 2025-02-22 00:27:52 -0500 (Sat, 22 Feb 2025) EllapsedTime: 21.0 seconds RetCode: 0 Status: OK PackageFile: CytoGLMM_1.15.0.tgz PackageFileSize: 430.7 KiB