Package: CytoDx Version: 1.27.0 Command: E:\biocbuild\bbs-3.21-bioc\R\bin\R.exe CMD INSTALL CytoDx StartedAt: 2025-02-20 16:01:03 -0500 (Thu, 20 Feb 2025) EndedAt: 2025-02-20 16:01:23 -0500 (Thu, 20 Feb 2025) EllapsedTime: 19.8 seconds RetCode: 0 Status: OK