Package: CytoDx Version: 1.27.0 Command: chmod a+r CytoDx -R && E:\biocbuild\bbs-3.21-bioc\R\bin\R.exe CMD build --keep-empty-dirs --no-resave-data CytoDx StartedAt: 2025-02-20 18:11:28 -0500 (Thu, 20 Feb 2025) EndedAt: 2025-02-20 18:12:01 -0500 (Thu, 20 Feb 2025) EllapsedTime: 33.2 seconds RetCode: 0 Status: OK PackageFile: CytoDx_1.27.0.tar.gz PackageFileSize: 662.5 KiB