Package: CytoDx Version: 1.27.0 Command: /home/biocbuild/bbs-3.21-bioc/R/bin/R CMD build --keep-empty-dirs --no-resave-data CytoDx StartedAt: 2025-02-20 17:07:04 -0500 (Thu, 20 Feb 2025) EndedAt: 2025-02-20 17:07:24 -0500 (Thu, 20 Feb 2025) EllapsedTime: 20.0 seconds RetCode: 0 Status: OK PackageFile: CytoDx_1.27.0.tar.gz PackageFileSize: 661.1 KiB