Package: CytoDx Version: 1.27.0 Command: /Library/Frameworks/R.framework/Resources/bin/R CMD INSTALL CytoDx StartedAt: 2025-02-20 15:37:24 -0500 (Thu, 20 Feb 2025) EndedAt: 2025-02-20 15:37:40 -0500 (Thu, 20 Feb 2025) EllapsedTime: 15.6 seconds RetCode: 0 Status: OK