Package: CytoDx Version: 1.27.0 Command: /Library/Frameworks/R.framework/Resources/bin/R CMD INSTALL CytoDx StartedAt: 2025-02-20 15:24:23 -0500 (Thu, 20 Feb 2025) EndedAt: 2025-02-20 15:24:28 -0500 (Thu, 20 Feb 2025) EllapsedTime: 4.8 seconds RetCode: 0 Status: OK