Package: CytoDx Version: 1.27.0 Command: /Library/Frameworks/R.framework/Resources/bin/R CMD check --install=check:CytoDx.install-out.txt --library=/Library/Frameworks/R.framework/Resources/library --no-vignettes --timings CytoDx_1.27.0.tar.gz StartedAt: 2025-02-21 19:25:16 -0500 (Fri, 21 Feb 2025) EndedAt: 2025-02-21 19:26:07 -0500 (Fri, 21 Feb 2025) EllapsedTime: 50.6 seconds RetCode: 0 Status: OK CheckDir: CytoDx.Rcheck Warnings: 0