Package: CytoDx Version: 1.27.0 Command: /Library/Frameworks/R.framework/Resources/bin/R CMD build --keep-empty-dirs --no-resave-data CytoDx StartedAt: 2025-02-21 16:02:37 -0500 (Fri, 21 Feb 2025) EndedAt: 2025-02-21 16:02:47 -0500 (Fri, 21 Feb 2025) EllapsedTime: 10.1 seconds RetCode: 0 Status: OK PackageFile: CytoDx_1.27.0.tar.gz PackageFileSize: 660.5 KiB