Package: CyTOFpower Version: 1.13.0 Command: E:\biocbuild\bbs-3.21-bioc\R\bin\R.exe CMD INSTALL CyTOFpower StartedAt: 2025-02-20 16:58:50 -0500 (Thu, 20 Feb 2025) EndedAt: 2025-02-20 16:59:16 -0500 (Thu, 20 Feb 2025) EllapsedTime: 25.6 seconds RetCode: 0 Status: OK