Package: CyTOFpower Version: 1.13.0 Command: chmod a+r CyTOFpower -R && E:\biocbuild\bbs-3.21-bioc\R\bin\R.exe CMD build --keep-empty-dirs --no-resave-data CyTOFpower StartedAt: 2025-02-20 18:11:30 -0500 (Thu, 20 Feb 2025) EndedAt: 2025-02-20 18:11:47 -0500 (Thu, 20 Feb 2025) EllapsedTime: 17.0 seconds RetCode: 0 Status: OK PackageFile: CyTOFpower_1.13.0.tar.gz PackageFileSize: 312.2 KiB