Package: CyTOFpower Version: 1.13.0 Command: rm -rf CyTOFpower.buildbin-libdir && mkdir CyTOFpower.buildbin-libdir && E:\biocbuild\bbs-3.21-bioc\R\bin\R.exe CMD INSTALL --build --library=CyTOFpower.buildbin-libdir CyTOFpower_1.13.0.tar.gz StartedAt: 2025-02-21 07:53:55 -0500 (Fri, 21 Feb 2025) EndedAt: 2025-02-21 07:54:47 -0500 (Fri, 21 Feb 2025) EllapsedTime: 51.2 seconds RetCode: 0 Status: OK PackageFile: CyTOFpower_1.13.0.zip PackageFileSize: 555.9 KiB