Package: CyTOFpower Version: 1.13.0 Command: /home/biocbuild/bbs-3.21-bioc/R/bin/R CMD check --install=check:CyTOFpower.install-out.txt --library=/home/biocbuild/bbs-3.21-bioc/R/site-library --timings CyTOFpower_1.13.0.tar.gz StartedAt: 2025-02-20 21:13:22 -0500 (Thu, 20 Feb 2025) EndedAt: 2025-02-20 21:14:23 -0500 (Thu, 20 Feb 2025) EllapsedTime: 60.2 seconds RetCode: 1 Status: ERROR CheckDir: CyTOFpower.Rcheck Warnings: NA