Package: CuratedAtlasQueryR Version: 1.5.0 Command: rm -rf CuratedAtlasQueryR.buildbin-libdir && mkdir CuratedAtlasQueryR.buildbin-libdir && E:\biocbuild\bbs-3.21-bioc\R\bin\R.exe CMD INSTALL --build --library=CuratedAtlasQueryR.buildbin-libdir CuratedAtlasQueryR_1.5.0.tar.gz StartedAt: 2025-02-21 07:53:38 -0500 (Fri, 21 Feb 2025) EndedAt: 2025-02-21 07:55:27 -0500 (Fri, 21 Feb 2025) EllapsedTime: 109.1 seconds RetCode: 0 Status: OK PackageFile: CuratedAtlasQueryR_1.5.0.zip PackageFileSize: 951.3 KiB