Package: CuratedAtlasQueryR Version: 1.5.0 Command: /home/biocbuild/bbs-3.21-bioc/R/bin/R CMD build --keep-empty-dirs --no-resave-data CuratedAtlasQueryR StartedAt: 2025-02-20 17:06:07 -0500 (Thu, 20 Feb 2025) EndedAt: 2025-02-20 17:07:55 -0500 (Thu, 20 Feb 2025) EllapsedTime: 108.1 seconds RetCode: 0 Status: OK PackageFile: CuratedAtlasQueryR_1.5.0.tar.gz PackageFileSize: 977.2 KiB