Package: CuratedAtlasQueryR Version: 1.5.0 Command: /Library/Frameworks/R.framework/Resources/bin/R CMD check --install=check:CuratedAtlasQueryR.install-out.txt --library=/Library/Frameworks/R.framework/Resources/library --no-vignettes --timings CuratedAtlasQueryR_1.5.0.tar.gz StartedAt: 2025-02-20 19:47:25 -0500 (Thu, 20 Feb 2025) EndedAt: 2025-02-20 19:53:19 -0500 (Thu, 20 Feb 2025) EllapsedTime: 353.4 seconds RetCode: 0 Status: OK CheckDir: CuratedAtlasQueryR.Rcheck Warnings: 0