Package: CuratedAtlasQueryR Version: 1.5.0 Command: /Library/Frameworks/R.framework/Resources/bin/R CMD build --keep-empty-dirs --no-resave-data CuratedAtlasQueryR StartedAt: 2025-02-20 16:22:31 -0500 (Thu, 20 Feb 2025) EndedAt: 2025-02-20 16:24:33 -0500 (Thu, 20 Feb 2025) EllapsedTime: 122.0 seconds RetCode: 0 Status: OK PackageFile: CuratedAtlasQueryR_1.5.0.tar.gz PackageFileSize: 967.2 KiB