Package: CrispRVariants Version: 1.35.0 Command: E:\biocbuild\bbs-3.21-bioc\R\bin\R.exe CMD check --no-multiarch --install=check:CrispRVariants.install-out.txt --library=E:\biocbuild\bbs-3.21-bioc\R\library --no-vignettes --timings CrispRVariants_1.35.0.tar.gz StartedAt: 2025-02-21 00:13:13 -0500 (Fri, 21 Feb 2025) EndedAt: 2025-02-21 00:19:01 -0500 (Fri, 21 Feb 2025) EllapsedTime: 348.5 seconds RetCode: 0 Status: WARNINGS CheckDir: CrispRVariants.Rcheck Warnings: 2