Package: CrispRVariants Version: 1.35.0 Command: chmod a+r CrispRVariants -R && E:\biocbuild\bbs-3.21-bioc\R\bin\R.exe CMD build --keep-empty-dirs --no-resave-data CrispRVariants StartedAt: 2025-02-20 18:08:55 -0500 (Thu, 20 Feb 2025) EndedAt: 2025-02-20 18:12:02 -0500 (Thu, 20 Feb 2025) EllapsedTime: 187.5 seconds RetCode: 0 Status: OK PackageFile: CrispRVariants_1.35.0.tar.gz PackageFileSize: 2.009 MiB