Package: CrispRVariants Version: 1.35.0 Command: /Library/Frameworks/R.framework/Resources/bin/R CMD INSTALL CrispRVariants StartedAt: 2025-02-20 15:15:49 -0500 (Thu, 20 Feb 2025) EndedAt: 2025-02-20 15:16:50 -0500 (Thu, 20 Feb 2025) EllapsedTime: 60.4 seconds RetCode: 0 Status: OK