Package: CrispRVariants Version: 1.35.0 Command: /Library/Frameworks/R.framework/Resources/bin/R CMD check --install=check:CrispRVariants.install-out.txt --library=/Library/Frameworks/R.framework/Resources/library --no-vignettes --timings CrispRVariants_1.35.0.tar.gz StartedAt: 2025-02-20 19:45:32 -0500 (Thu, 20 Feb 2025) EndedAt: 2025-02-20 19:51:01 -0500 (Thu, 20 Feb 2025) EllapsedTime: 328.6 seconds RetCode: 0 Status: WARNINGS CheckDir: CrispRVariants.Rcheck Warnings: 2