Package: CoverageView Version: 1.45.0 Command: /Library/Frameworks/R.framework/Resources/bin/R CMD INSTALL CoverageView StartedAt: 2025-02-19 15:12:18 -0500 (Wed, 19 Feb 2025) EndedAt: 2025-02-19 15:12:31 -0500 (Wed, 19 Feb 2025) EllapsedTime: 12.2 seconds RetCode: 0 Status: OK