Package: CoverageView Version: 1.45.0 Command: rm -rf CoverageView.buildbin-libdir && mkdir CoverageView.buildbin-libdir && /Users/biocbuild/BBS/utils/build-universal.sh CoverageView_1.45.0.tar.gz /Library/Frameworks/R.framework/Resources/bin/R CoverageView.buildbin-libdir StartedAt: 2025-02-19 22:18:15 -0500 (Wed, 19 Feb 2025) EndedAt: 2025-02-19 22:18:29 -0500 (Wed, 19 Feb 2025) EllapsedTime: 14.3 seconds RetCode: 0 Status: OK PackageFile: CoverageView_1.45.0.tgz PackageFileSize: 2.966 MiB