Package: CoreGx Version: 2.11.0 Command: /home/biocbuild/bbs-3.21-bioc/R/bin/R CMD INSTALL CoreGx StartedAt: 2025-02-17 15:22:16 -0500 (Mon, 17 Feb 2025) EndedAt: 2025-02-17 15:22:52 -0500 (Mon, 17 Feb 2025) EllapsedTime: 35.7 seconds RetCode: 0 Status: OK