Package: CoreGx Version: 2.11.0 Command: /home/biocbuild/bbs-3.21-bioc/R/bin/R CMD check --install=check:CoreGx.install-out.txt --library=/home/biocbuild/bbs-3.21-bioc/R/site-library --timings CoreGx_2.11.0.tar.gz StartedAt: 2025-02-17 21:02:33 -0500 (Mon, 17 Feb 2025) EndedAt: 2025-02-17 21:07:49 -0500 (Mon, 17 Feb 2025) EllapsedTime: 316.5 seconds RetCode: 0 Status: OK CheckDir: CoreGx.Rcheck Warnings: 0