Package: CoreGx Version: 2.11.0 Command: rm -rf CoreGx.buildbin-libdir && mkdir CoreGx.buildbin-libdir && /Users/biocbuild/BBS/utils/build-universal.sh CoreGx_2.11.0.tar.gz /Library/Frameworks/R.framework/Resources/bin/R CoreGx.buildbin-libdir StartedAt: 2025-02-18 00:19:44 -0500 (Tue, 18 Feb 2025) EndedAt: 2025-02-18 00:20:38 -0500 (Tue, 18 Feb 2025) EllapsedTime: 54.3 seconds RetCode: 0 Status: OK PackageFile: CoreGx_2.11.0.tgz PackageFileSize: 2.43 MiB