Package: CoreGx Version: 2.11.0 Command: /Library/Frameworks/R.framework/Resources/bin/R CMD INSTALL CoreGx StartedAt: 2025-02-17 15:21:19 -0500 (Mon, 17 Feb 2025) EndedAt: 2025-02-17 15:21:34 -0500 (Mon, 17 Feb 2025) EllapsedTime: 14.9 seconds RetCode: 0 Status: OK