Package: CoreGx Version: 2.11.0 Command: rm -rf CoreGx.buildbin-libdir && mkdir CoreGx.buildbin-libdir && /Users/biocbuild/BBS/utils/build-universal.sh CoreGx_2.11.0.tar.gz /Library/Frameworks/R.framework/Resources/bin/R CoreGx.buildbin-libdir StartedAt: 2025-02-17 22:13:32 -0500 (Mon, 17 Feb 2025) EndedAt: 2025-02-17 22:13:49 -0500 (Mon, 17 Feb 2025) EllapsedTime: 17.4 seconds RetCode: 0 Status: OK PackageFile: CoreGx_2.11.0.tgz PackageFileSize: 2.439 MiB