Package: CopyNumberPlots Version: 1.23.0 Command: chmod a+r CopyNumberPlots -R && E:\biocbuild\bbs-3.21-bioc\R\bin\R.exe CMD build --keep-empty-dirs --no-resave-data CopyNumberPlots StartedAt: 2025-02-20 18:06:26 -0500 (Thu, 20 Feb 2025) EndedAt: 2025-02-20 18:07:58 -0500 (Thu, 20 Feb 2025) EllapsedTime: 92.1 seconds RetCode: 1 Status: ERROR PackageFile: None PackageFileSize: NA