Package: CopyNumberPlots Version: 1.23.0 Command: /home/biocbuild/bbs-3.21-bioc/R/bin/R CMD INSTALL CopyNumberPlots StartedAt: 2025-02-20 15:59:54 -0500 (Thu, 20 Feb 2025) EndedAt: 2025-02-20 16:00:38 -0500 (Thu, 20 Feb 2025) EllapsedTime: 44.2 seconds RetCode: 0 Status: OK