Package: CopyNumberPlots Version: 1.23.0 Command: /Library/Frameworks/R.framework/Resources/bin/R CMD INSTALL CopyNumberPlots StartedAt: 2025-02-20 15:16:30 -0500 (Thu, 20 Feb 2025) EndedAt: 2025-02-20 15:16:49 -0500 (Thu, 20 Feb 2025) EllapsedTime: 18.8 seconds RetCode: 0 Status: OK