Package: ConsensusClusterPlus Version: 1.71.0 Command: /home/biocbuild/bbs-3.21-bioc/R/bin/R CMD check --install=check:ConsensusClusterPlus.install-out.txt --library=/home/biocbuild/bbs-3.21-bioc/R/site-library --timings ConsensusClusterPlus_1.71.0.tar.gz StartedAt: 2025-02-19 21:06:23 -0500 (Wed, 19 Feb 2025) EndedAt: 2025-02-19 21:06:53 -0500 (Wed, 19 Feb 2025) EllapsedTime: 30.0 seconds RetCode: 0 Status: OK CheckDir: ConsensusClusterPlus.Rcheck Warnings: 0