Package: ConsensusClusterPlus Version: 1.72.0 Command: /Library/Frameworks/R.framework/Resources/bin/R CMD INSTALL ConsensusClusterPlus StartedAt: 2025-10-13 15:23:14 -0400 (Mon, 13 Oct 2025) EndedAt: 2025-10-13 15:23:24 -0400 (Mon, 13 Oct 2025) EllapsedTime: 9.2 seconds RetCode: 0 Status: OK