Package: ConsensusClusterPlus Version: 1.71.0 Command: /Library/Frameworks/R.framework/Resources/bin/R CMD build --keep-empty-dirs --no-resave-data ConsensusClusterPlus StartedAt: 2025-02-19 16:19:18 -0500 (Wed, 19 Feb 2025) EndedAt: 2025-02-19 16:19:32 -0500 (Wed, 19 Feb 2025) EllapsedTime: 13.8 seconds RetCode: 0 Status: OK PackageFile: ConsensusClusterPlus_1.71.0.tar.gz PackageFileSize: 382.9 KiB