Package: ConsensusClusterPlus Version: 1.72.0 Command: /Library/Frameworks/R.framework/Resources/bin/R CMD INSTALL ConsensusClusterPlus StartedAt: 2025-10-02 15:37:33 -0400 (Thu, 02 Oct 2025) EndedAt: 2025-10-02 15:37:37 -0400 (Thu, 02 Oct 2025) EllapsedTime: 4.4 seconds RetCode: 0 Status: OK